BEGIN:VCALENDAR
VERSION:2.0
PRODID:-//BC Regenerative Medicine Initiative - ECPv6.15.20//NONSGML v1.0//EN
CALSCALE:GREGORIAN
METHOD:PUBLISH
X-ORIGINAL-URL:https://bcregmed.ca
X-WR-CALDESC:Events for BC Regenerative Medicine Initiative
REFRESH-INTERVAL;VALUE=DURATION:PT1H
X-Robots-Tag:noindex
X-PUBLISHED-TTL:PT1H
BEGIN:VTIMEZONE
TZID:America/Vancouver
BEGIN:DAYLIGHT
TZOFFSETFROM:-0800
TZOFFSETTO:-0700
TZNAME:PDT
DTSTART:20230312T100000
END:DAYLIGHT
BEGIN:STANDARD
TZOFFSETFROM:-0700
TZOFFSETTO:-0800
TZNAME:PST
DTSTART:20231105T090000
END:STANDARD
BEGIN:DAYLIGHT
TZOFFSETFROM:-0800
TZOFFSETTO:-0700
TZNAME:PDT
DTSTART:20240310T100000
END:DAYLIGHT
BEGIN:STANDARD
TZOFFSETFROM:-0700
TZOFFSETTO:-0800
TZNAME:PST
DTSTART:20241103T090000
END:STANDARD
BEGIN:DAYLIGHT
TZOFFSETFROM:-0800
TZOFFSETTO:-0700
TZNAME:PDT
DTSTART:20250309T100000
END:DAYLIGHT
BEGIN:STANDARD
TZOFFSETFROM:-0700
TZOFFSETTO:-0800
TZNAME:PST
DTSTART:20251102T090000
END:STANDARD
END:VTIMEZONE
BEGIN:VEVENT
DTSTART;TZID=America/Vancouver:20240118T120000
DTEND;TZID=America/Vancouver:20240119T140000
DTSTAMP:20260422T145437
CREATED:20230823T194338Z
LAST-MODIFIED:20240117T170420Z
UID:4033-1705579200-1705672800@bcregmed.ca
SUMMARY:Cascadia 5.0
DESCRIPTION:BCRegMed along with the Institute for Stem Cell & Regenerative Medicine at the University of Washington takes great pride in announcing the hosting of the FIFTH ANNUAL Cascadia Regenerative Medicine Symposium. \nScheduled for January 18th and 19th\, 2024\, this event will be held at the Sutton Place Hotel\, in Vancouver\, BC. It offers a unique platform for the rich academic talent from both British Columbia and Washington to actively share their insights and expertise with the community. This symposium aims to foster fresh collaborative partnerships\, identify existing gaps in the realms of regenerative medicine and cell therapy\, and persistently strive toward effective and enduring solutions for the most pressing healthcare challenges of today. \nThis highly anticipated event has been meticulously organized by BCREGMED and our esteemed colleagues at UW. We cordially extend our invitation to attend this event\, spanning two half-days. \nFor those interested in sponsorship prospects and seeking further details\, kindly get in touch with our program manager\, Lisa Borecky\, at lborecky@bccrc.ca. \nTime: January 18th\, 12pm-6pm ; January 19th 8:30am-2pm\nLocation: The Sutton Place Hotel\, Vancouver BC\nAbstract Deadline: November 15th\nRegistration Deadline: December 15th \nVIEW THE AGENDA HERE \nView the full programs HERE\nand STUDENT ABSTRACTS \n* Please note that registering does not guarantee you a spot\, as space is limited\, and registrations will be reviewed based on number of entries per lab\, abstract submission\, career stage etc. To maximize your chances of securing a spot we recommend registering ASAP and coordinating with other members of your lab! * \nTHANK YOU TO OUR SPONSORS
URL:https://bcregmed.ca/event/cascadia-5/
LOCATION:The Sutton Place Hotel
CATEGORIES:Event,Symposium,Virtual Seminar,Virtual Symposium,Workshop
ORGANIZER;CN="BCRegMed":MAILTO:info@bcregmed.ca
END:VEVENT
END:VCALENDAR